BEGIN:VCALENDAR
VERSION:2.0
PRODID:icalendar-ruby
CALSCALE:GREGORIAN
METHOD:PUBLISH
BEGIN:VEVENT
DTSTAMP:20260425T234012Z
UID:4ae0b71e-fe5d-48a8-8f47-2362a05ab98f
DTSTART:20260425T160000
DTEND:20260426T060000
DESCRIPTION:<p>The Greenhouse ft LOCNVILLE</p>
LOCATION:Sandton 
SUMMARY:The Greenhouse presents LOCNVILLE
URL;VALUE=URI:https://greenhouse.howler.co.za/locnville25
END:VEVENT
END:VCALENDAR
